BEGIN:VCALENDAR
VERSION:2.0
PRODID:-//Recovery Point West Virginia - ECPv6.15.20//NONSGML v1.0//EN
CALSCALE:GREGORIAN
METHOD:PUBLISH
X-WR-CALNAME:Recovery Point West Virginia
X-ORIGINAL-URL:https://recoverypointwv.org
X-WR-CALDESC:Events for Recovery Point West Virginia
REFRESH-INTERVAL;VALUE=DURATION:PT1H
X-Robots-Tag:noindex
X-PUBLISHED-TTL:PT1H
BEGIN:VTIMEZONE
TZID:America/New_York
BEGIN:DAYLIGHT
TZOFFSETFROM:-0500
TZOFFSETTO:-0400
TZNAME:EDT
DTSTART:20250309T070000
END:DAYLIGHT
BEGIN:STANDARD
TZOFFSETFROM:-0400
TZOFFSETTO:-0500
TZNAME:EST
DTSTART:20251102T060000
END:STANDARD
BEGIN:DAYLIGHT
TZOFFSETFROM:-0500
TZOFFSETTO:-0400
TZNAME:EDT
DTSTART:20260308T070000
END:DAYLIGHT
BEGIN:STANDARD
TZOFFSETFROM:-0400
TZOFFSETTO:-0500
TZNAME:EST
DTSTART:20261101T060000
END:STANDARD
BEGIN:DAYLIGHT
TZOFFSETFROM:-0500
TZOFFSETTO:-0400
TZNAME:EDT
DTSTART:20270314T070000
END:DAYLIGHT
BEGIN:STANDARD
TZOFFSETFROM:-0400
TZOFFSETTO:-0500
TZNAME:EST
DTSTART:20271107T060000
END:STANDARD
END:VTIMEZONE
BEGIN:VEVENT
DTSTART;TZID=America/New_York:20260425T080000
DTEND;TZID=America/New_York:20260425T160000
DTSTAMP:20260425T095227
CREATED:20260403T152301Z
LAST-MODIFIED:20260403T152301Z
UID:89572-1777104000-1777132800@recoverypointwv.org
SUMMARY:Café Closed
DESCRIPTION:Café closed
URL:https://recoverypointwv.org/event/cafe-closed-10/
LOCATION:The Point Café\, 630 8th Avenue\, Huntington\, WV\, 25701\, United States
CATEGORIES:The Point Café
END:VEVENT
BEGIN:VEVENT
DTSTART;TZID=America/New_York:20260426T133000
DTEND;TZID=America/New_York:20260426T143000
DTSTAMP:20260425T095227
CREATED:20260403T152303Z
LAST-MODIFIED:20260403T152303Z
UID:89573-1777210200-1777213800@recoverypointwv.org
SUMMARY:N/A Meeting
DESCRIPTION:
URL:https://recoverypointwv.org/event/n-a-meeting-9/
LOCATION:The Point Café\, 630 8th Avenue\, Huntington\, WV\, 25701\, United States
CATEGORIES:The Point Café
END:VEVENT
BEGIN:VEVENT
DTSTART;TZID=America/New_York:20260427T100000
DTEND;TZID=America/New_York:20260427T120000
DTSTAMP:20260425T095227
CREATED:20260403T152305Z
LAST-MODIFIED:20260403T152305Z
UID:89574-1777284000-1777291200@recoverypointwv.org
SUMMARY:New Member Intake
DESCRIPTION:
URL:https://recoverypointwv.org/event/new-member-intake-117/
LOCATION:The Point Café\, 630 8th Avenue\, Huntington\, WV\, 25701\, United States
CATEGORIES:The Point Café
END:VEVENT
BEGIN:VEVENT
DTSTART;TZID=America/New_York:20260427T110000
DTEND;TZID=America/New_York:20260427T120000
DTSTAMP:20260425T095227
CREATED:20260403T152457Z
LAST-MODIFIED:20260403T152457Z
UID:89575-1777287600-1777291200@recoverypointwv.org
SUMMARY:Recovery Circle
DESCRIPTION:
URL:https://recoverypointwv.org/event/recovery-circle-367/
LOCATION:The Point Café\, 630 8th Avenue\, Huntington\, WV\, 25701\, United States
CATEGORIES:The Point Café
END:VEVENT
BEGIN:VEVENT
DTSTART;TZID=America/New_York:20260428T100000
DTEND;TZID=America/New_York:20260428T120000
DTSTAMP:20260425T095227
CREATED:20260403T152458Z
LAST-MODIFIED:20260403T152458Z
UID:89576-1777370400-1777377600@recoverypointwv.org
SUMMARY:New Member Intake
DESCRIPTION:
URL:https://recoverypointwv.org/event/new-member-intake-118/
LOCATION:The Point Café\, 630 8th Avenue\, Huntington\, WV\, 25701\, United States
CATEGORIES:The Point Café
END:VEVENT
BEGIN:VEVENT
DTSTART;TZID=America/New_York:20260428T130000
DTEND;TZID=America/New_York:20260428T140000
DTSTAMP:20260425T095227
CREATED:20260403T152459Z
LAST-MODIFIED:20260403T152459Z
UID:89577-1777381200-1777384800@recoverypointwv.org
SUMMARY:Recovery Circle
DESCRIPTION:
URL:https://recoverypointwv.org/event/recovery-circle-368/
LOCATION:The Point Café\, 630 8th Avenue\, Huntington\, WV\, 25701\, United States
CATEGORIES:The Point Café
END:VEVENT
BEGIN:VEVENT
DTSTART;TZID=America/New_York:20260428T143000
DTEND;TZID=America/New_York:20260428T153000
DTSTAMP:20260425T095227
CREATED:20260403T152501Z
LAST-MODIFIED:20260403T152501Z
UID:89578-1777386600-1777390200@recoverypointwv.org
SUMMARY:Relapse Prevention
DESCRIPTION:
URL:https://recoverypointwv.org/event/relapse-prevention-45/
LOCATION:The Point Café\, 630 8th Avenue\, Huntington\, WV\, 25701\, United States
CATEGORIES:The Point Café
END:VEVENT
BEGIN:VEVENT
DTSTART;TZID=America/New_York:20260429T120000
DTEND;TZID=America/New_York:20260429T133000
DTSTAMP:20260425T095227
CREATED:20260403T152503Z
LAST-MODIFIED:20260403T152503Z
UID:89579-1777464000-1777469400@recoverypointwv.org
SUMMARY:Heart Of Appalachia
DESCRIPTION:
URL:https://recoverypointwv.org/event/heart-of-appalachia-9/
LOCATION:The Point Café\, 630 8th Avenue\, Huntington\, WV\, 25701\, United States
CATEGORIES:The Point Café
END:VEVENT
BEGIN:VEVENT
DTSTART;TZID=America/New_York:20260429T120000
DTEND;TZID=America/New_York:20260429T160000
DTSTAMP:20260425T095227
CREATED:20260403T152516Z
LAST-MODIFIED:20260403T152516Z
UID:89580-1777464000-1777478400@recoverypointwv.org
SUMMARY:Jobs & Hope
DESCRIPTION:
URL:https://recoverypointwv.org/event/jobs-hope-2/
LOCATION:The Point Café\, 630 8th Avenue\, Huntington\, WV\, 25701\, United States
CATEGORIES:The Point Café
END:VEVENT
BEGIN:VEVENT
DTSTART;TZID=America/New_York:20260429T133000
DTEND;TZID=America/New_York:20260429T143000
DTSTAMP:20260425T095227
CREATED:20260403T152516Z
LAST-MODIFIED:20260403T152516Z
UID:89581-1777469400-1777473000@recoverypointwv.org
SUMMARY:Recovery Circle
DESCRIPTION:
URL:https://recoverypointwv.org/event/recovery-circle-369/
LOCATION:The Point Café\, 630 8th Avenue\, Huntington\, WV\, 25701\, United States
CATEGORIES:The Point Café
END:VEVENT
BEGIN:VEVENT
DTSTART;TZID=America/New_York:20260429T150000
DTEND;TZID=America/New_York:20260429T160000
DTSTAMP:20260425T095227
CREATED:20260403T152517Z
LAST-MODIFIED:20260403T152517Z
UID:89582-1777474800-1777478400@recoverypointwv.org
SUMMARY:Womens Support Group
DESCRIPTION:
URL:https://recoverypointwv.org/event/womens-support-group-47/
LOCATION:The Point Café\, 630 8th Avenue\, Huntington\, WV\, 25701\, United States
CATEGORIES:The Point Café
END:VEVENT
BEGIN:VEVENT
DTSTART;TZID=America/New_York:20260429T180000
DTEND;TZID=America/New_York:20260429T190000
DTSTAMP:20260425T095227
CREATED:20260403T152518Z
LAST-MODIFIED:20260403T152518Z
UID:89583-1777485600-1777489200@recoverypointwv.org
SUMMARY:Recovery Circle
DESCRIPTION:
URL:https://recoverypointwv.org/event/recovery-circle-370/
LOCATION:The Point Café\, 630 8th Avenue\, Huntington\, WV\, 25701\, United States
CATEGORIES:The Point Café
END:VEVENT
BEGIN:VEVENT
DTSTART;TZID=America/New_York:20260430T110000
DTEND;TZID=America/New_York:20260430T120000
DTSTAMP:20260425T095227
CREATED:20260403T152519Z
LAST-MODIFIED:20260403T152519Z
UID:89584-1777546800-1777550400@recoverypointwv.org
SUMMARY:Recovery Circle
DESCRIPTION:
URL:https://recoverypointwv.org/event/recovery-circle-371/
LOCATION:The Point Café\, 630 8th Avenue\, Huntington\, WV\, 25701\, United States
CATEGORIES:The Point Café
END:VEVENT
BEGIN:VEVENT
DTSTART;TZID=America/New_York:20260430T143000
DTEND;TZID=America/New_York:20260430T153000
DTSTAMP:20260425T095227
CREATED:20260403T152530Z
LAST-MODIFIED:20260403T152530Z
UID:89585-1777559400-1777563000@recoverypointwv.org
SUMMARY:Art Therapy
DESCRIPTION:
URL:https://recoverypointwv.org/event/art-therapy-49/
LOCATION:The Point Café\, 630 8th Avenue\, Huntington\, WV\, 25701\, United States
CATEGORIES:The Point Café
END:VEVENT
END:VCALENDAR