BEGIN:VCALENDAR
VERSION:2.0
PRODID:-//Recovery Point West Virginia - ECPv6.15.20//NONSGML v1.0//EN
CALSCALE:GREGORIAN
METHOD:PUBLISH
X-ORIGINAL-URL:https://recoverypointwv.org
X-WR-CALDESC:Events for Recovery Point West Virginia
REFRESH-INTERVAL;VALUE=DURATION:PT1H
X-Robots-Tag:noindex
X-PUBLISHED-TTL:PT1H
BEGIN:VTIMEZONE
TZID:America/New_York
BEGIN:DAYLIGHT
TZOFFSETFROM:-0500
TZOFFSETTO:-0400
TZNAME:EDT
DTSTART:20250309T070000
END:DAYLIGHT
BEGIN:STANDARD
TZOFFSETFROM:-0400
TZOFFSETTO:-0500
TZNAME:EST
DTSTART:20251102T060000
END:STANDARD
BEGIN:DAYLIGHT
TZOFFSETFROM:-0500
TZOFFSETTO:-0400
TZNAME:EDT
DTSTART:20260308T070000
END:DAYLIGHT
BEGIN:STANDARD
TZOFFSETFROM:-0400
TZOFFSETTO:-0500
TZNAME:EST
DTSTART:20261101T060000
END:STANDARD
BEGIN:DAYLIGHT
TZOFFSETFROM:-0500
TZOFFSETTO:-0400
TZNAME:EDT
DTSTART:20270314T070000
END:DAYLIGHT
BEGIN:STANDARD
TZOFFSETFROM:-0400
TZOFFSETTO:-0500
TZNAME:EST
DTSTART:20271107T060000
END:STANDARD
END:VTIMEZONE
BEGIN:VEVENT
DTSTART;TZID=America/New_York:20260416T140000
DTEND;TZID=America/New_York:20260416T150000
DTSTAMP:20260425T140544
CREATED:20260403T150452Z
LAST-MODIFIED:20260403T150452Z
UID:89562-1776348000-1776351600@recoverypointwv.org
SUMMARY:Art Therapy
DESCRIPTION:
URL:https://recoverypointwv.org/event/art-therapy-48/
LOCATION:The Point Café\, 630 8th Avenue\, Huntington\, WV\, 25701\, United States
CATEGORIES:The Point Café
END:VEVENT
BEGIN:VEVENT
DTSTART;TZID=America/New_York:20260416T120000
DTEND;TZID=America/New_York:20260416T130000
DTSTAMP:20260425T140544
CREATED:20260403T150451Z
LAST-MODIFIED:20260403T150451Z
UID:89561-1776340800-1776344400@recoverypointwv.org
SUMMARY:Truist-Finacial Wellness
DESCRIPTION:
URL:https://recoverypointwv.org/event/truist-finacial-wellness-4/
LOCATION:The Point Café\, 630 8th Avenue\, Huntington\, WV\, 25701\, United States
CATEGORIES:The Point Café
END:VEVENT
BEGIN:VEVENT
DTSTART;TZID=America/New_York:20260416T110000
DTEND;TZID=America/New_York:20260416T120000
DTSTAMP:20260425T140544
CREATED:20260403T150257Z
LAST-MODIFIED:20260403T150257Z
UID:89559-1776337200-1776340800@recoverypointwv.org
SUMMARY:Recovery Circle
DESCRIPTION:
URL:https://recoverypointwv.org/event/recovery-circle-365/
LOCATION:The Point Café\, 630 8th Avenue\, Huntington\, WV\, 25701\, United States
CATEGORIES:The Point Café
END:VEVENT
BEGIN:VEVENT
DTSTART;TZID=America/New_York:20260415T180000
DTEND;TZID=America/New_York:20260415T190000
DTSTAMP:20260425T140544
CREATED:20260403T150255Z
LAST-MODIFIED:20260403T150255Z
UID:89558-1776276000-1776279600@recoverypointwv.org
SUMMARY:Recovery Circle
DESCRIPTION:
URL:https://recoverypointwv.org/event/recovery-circle-364/
LOCATION:The Point Café\, 630 8th Avenue\, Huntington\, WV\, 25701\, United States
CATEGORIES:The Point Café
END:VEVENT
BEGIN:VEVENT
DTSTART;TZID=America/New_York:20260415T150000
DTEND;TZID=America/New_York:20260415T160000
DTSTAMP:20260425T140544
CREATED:20260403T150253Z
LAST-MODIFIED:20260403T150253Z
UID:89557-1776265200-1776268800@recoverypointwv.org
SUMMARY:Womens Support Group
DESCRIPTION:
URL:https://recoverypointwv.org/event/womens-support-group-46/
LOCATION:The Point Café\, 630 8th Avenue\, Huntington\, WV\, 25701\, United States
CATEGORIES:The Point Café
END:VEVENT
BEGIN:VEVENT
DTSTART;TZID=America/New_York:20260415T133000
DTEND;TZID=America/New_York:20260415T143000
DTSTAMP:20260425T140544
CREATED:20260403T150251Z
LAST-MODIFIED:20260403T150251Z
UID:89556-1776259800-1776263400@recoverypointwv.org
SUMMARY:Recovery Circle
DESCRIPTION:
URL:https://recoverypointwv.org/event/recovery-circle-363/
LOCATION:The Point Café\, 630 8th Avenue\, Huntington\, WV\, 25701\, United States
CATEGORIES:The Point Café
END:VEVENT
BEGIN:VEVENT
DTSTART;TZID=America/New_York:20260415T120000
DTEND;TZID=America/New_York:20260415T133000
DTSTAMP:20260425T140544
CREATED:20260403T150249Z
LAST-MODIFIED:20260403T150249Z
UID:89555-1776254400-1776259800@recoverypointwv.org
SUMMARY:Heart Of Appalachia
DESCRIPTION:
URL:https://recoverypointwv.org/event/heart-of-appalachia-8/
LOCATION:The Point Café\, 630 8th Avenue\, Huntington\, WV\, 25701\, United States
CATEGORIES:The Point Café
END:VEVENT
BEGIN:VEVENT
DTSTART;TZID=America/New_York:20260414T143000
DTEND;TZID=America/New_York:20260414T153000
DTSTAMP:20260425T140544
CREATED:20260403T150055Z
LAST-MODIFIED:20260403T150055Z
UID:89554-1776177000-1776180600@recoverypointwv.org
SUMMARY:Relapse Prevention
DESCRIPTION:
URL:https://recoverypointwv.org/event/relapse-prevention-44/
LOCATION:The Point Café\, 630 8th Avenue\, Huntington\, WV\, 25701\, United States
CATEGORIES:The Point Café
END:VEVENT
BEGIN:VEVENT
DTSTART;TZID=America/New_York:20260414T133000
DTEND;TZID=America/New_York:20260414T143000
DTSTAMP:20260425T140544
CREATED:20260403T150053Z
LAST-MODIFIED:20260403T150053Z
UID:89552-1776173400-1776177000@recoverypointwv.org
SUMMARY:Narcan Training
DESCRIPTION:
URL:https://recoverypointwv.org/event/narcan-training-9/
LOCATION:The Point Café\, 630 8th Avenue\, Huntington\, WV\, 25701\, United States
CATEGORIES:The Point Café
END:VEVENT
BEGIN:VEVENT
DTSTART;TZID=America/New_York:20260414T130000
DTEND;TZID=America/New_York:20260414T140000
DTSTAMP:20260425T140544
CREATED:20260403T150054Z
LAST-MODIFIED:20260403T150054Z
UID:89553-1776171600-1776175200@recoverypointwv.org
SUMMARY:Recovery Circle
DESCRIPTION:
URL:https://recoverypointwv.org/event/recovery-circle-362/
LOCATION:The Point Café\, 630 8th Avenue\, Huntington\, WV\, 25701\, United States
CATEGORIES:The Point Café
END:VEVENT
BEGIN:VEVENT
DTSTART;TZID=America/New_York:20260414T100000
DTEND;TZID=America/New_York:20260414T120000
DTSTAMP:20260425T140544
CREATED:20260403T150051Z
LAST-MODIFIED:20260403T150051Z
UID:89551-1776160800-1776168000@recoverypointwv.org
SUMMARY:New Member Intake
DESCRIPTION:
URL:https://recoverypointwv.org/event/new-member-intake-116/
LOCATION:The Point Café\, 630 8th Avenue\, Huntington\, WV\, 25701\, United States
CATEGORIES:The Point Café
END:VEVENT
BEGIN:VEVENT
DTSTART;TZID=America/New_York:20260413T110000
DTEND;TZID=America/New_York:20260413T120000
DTSTAMP:20260425T140544
CREATED:20260403T150049Z
LAST-MODIFIED:20260403T150049Z
UID:89550-1776078000-1776081600@recoverypointwv.org
SUMMARY:Recovery Circle
DESCRIPTION:
URL:https://recoverypointwv.org/event/recovery-circle-361/
LOCATION:The Point Café\, 630 8th Avenue\, Huntington\, WV\, 25701\, United States
CATEGORIES:The Point Café
END:VEVENT
BEGIN:VEVENT
DTSTART;TZID=America/New_York:20260413T100000
DTEND;TZID=America/New_York:20260413T120000
DTSTAMP:20260425T140544
CREATED:20260403T145856Z
LAST-MODIFIED:20260403T145856Z
UID:89549-1776074400-1776081600@recoverypointwv.org
SUMMARY:New Member Intake
DESCRIPTION:
URL:https://recoverypointwv.org/event/new-member-intake-115/
LOCATION:The Point Café\, 630 8th Avenue\, Huntington\, WV\, 25701\, United States
CATEGORIES:The Point Café
END:VEVENT
BEGIN:VEVENT
DTSTART;TZID=America/New_York:20260412T133000
DTEND;TZID=America/New_York:20260412T143000
DTSTAMP:20260425T140544
CREATED:20260403T145854Z
LAST-MODIFIED:20260403T145854Z
UID:89548-1776000600-1776004200@recoverypointwv.org
SUMMARY:N/A Meeting
DESCRIPTION:
URL:https://recoverypointwv.org/event/n-a-meeting-6/
LOCATION:The Point Café\, 630 8th Avenue\, Huntington\, WV\, 25701\, United States
CATEGORIES:The Point Café
END:VEVENT
BEGIN:VEVENT
DTSTART;TZID=America/New_York:20260411T100000
DTEND;TZID=America/New_York:20260411T110000
DTSTAMP:20260425T140544
CREATED:20260403T145852Z
LAST-MODIFIED:20260403T145852Z
UID:89547-1775901600-1775905200@recoverypointwv.org
SUMMARY:N/A Meeting
DESCRIPTION:
URL:https://recoverypointwv.org/event/n-a-meeting-5/
LOCATION:The Point Café\, 630 8th Avenue\, Huntington\, WV\, 25701\, United States
CATEGORIES:The Point Café
END:VEVENT
BEGIN:VEVENT
DTSTART;TZID=America/New_York:20260410T140000
DTEND;TZID=America/New_York:20260410T150000
DTSTAMP:20260425T140544
CREATED:20260403T145851Z
LAST-MODIFIED:20260403T145851Z
UID:89546-1775829600-1775833200@recoverypointwv.org
SUMMARY:Recovery Circle
DESCRIPTION:
URL:https://recoverypointwv.org/event/recovery-circle-360/
LOCATION:The Point Café\, 630 8th Avenue\, Huntington\, WV\, 25701\, United States
CATEGORIES:The Point Café
END:VEVENT
BEGIN:VEVENT
DTSTART;TZID=America/New_York:20260410T133000
DTEND;TZID=America/New_York:20260410T153000
DTSTAMP:20260425T140544
CREATED:20260403T145849Z
LAST-MODIFIED:20260403T145849Z
UID:89545-1775827800-1775835000@recoverypointwv.org
SUMMARY:Healthy Connections B-day Party
DESCRIPTION:
URL:https://recoverypointwv.org/event/healthy-connections-b-day-party/
LOCATION:The Point Café\, 630 8th Avenue\, Huntington\, WV\, 25701\, United States
CATEGORIES:The Point Café
END:VEVENT
BEGIN:VEVENT
DTSTART;TZID=America/New_York:20260409T180000
DTEND;TZID=America/New_York:20260409T190000
DTSTAMP:20260425T140544
CREATED:20260403T145657Z
LAST-MODIFIED:20260403T145657Z
UID:89544-1775757600-1775761200@recoverypointwv.org
SUMMARY:N/A Meeting
DESCRIPTION:
URL:https://recoverypointwv.org/event/n-a-meeting-4/
LOCATION:The Point Café\, 630 8th Avenue\, Huntington\, WV\, 25701\, United States
CATEGORIES:The Point Café
END:VEVENT
BEGIN:VEVENT
DTSTART;TZID=America/New_York:20260409T140000
DTEND;TZID=America/New_York:20260409T150000
DTSTAMP:20260425T140544
CREATED:20260403T145654Z
LAST-MODIFIED:20260403T145654Z
UID:89543-1775743200-1775746800@recoverypointwv.org
SUMMARY:Art Therapy
DESCRIPTION:
URL:https://recoverypointwv.org/event/art-therapy-47/
LOCATION:The Point Café\, 630 8th Avenue\, Huntington\, WV\, 25701\, United States
CATEGORIES:The Point Café
END:VEVENT
BEGIN:VEVENT
DTSTART;TZID=America/New_York:20260409T110000
DTEND;TZID=America/New_York:20260409T120000
DTSTAMP:20260425T140544
CREATED:20260403T145652Z
LAST-MODIFIED:20260403T145652Z
UID:89542-1775732400-1775736000@recoverypointwv.org
SUMMARY:Recovery Circle
DESCRIPTION:
URL:https://recoverypointwv.org/event/recovery-circle-359/
LOCATION:The Point Café\, 630 8th Avenue\, Huntington\, WV\, 25701\, United States
CATEGORIES:The Point Café
END:VEVENT
BEGIN:VEVENT
DTSTART;TZID=America/New_York:20260408T180000
DTEND;TZID=America/New_York:20260408T190000
DTSTAMP:20260425T140544
CREATED:20260403T145650Z
LAST-MODIFIED:20260403T145650Z
UID:89541-1775671200-1775674800@recoverypointwv.org
SUMMARY:Recovery Circle
DESCRIPTION:
URL:https://recoverypointwv.org/event/recovery-circle-358/
LOCATION:The Point Café\, 630 8th Avenue\, Huntington\, WV\, 25701\, United States
CATEGORIES:The Point Café
END:VEVENT
BEGIN:VEVENT
DTSTART;TZID=America/New_York:20260408T150000
DTEND;TZID=America/New_York:20260408T160000
DTSTAMP:20260425T140544
CREATED:20260403T145649Z
LAST-MODIFIED:20260403T145649Z
UID:89540-1775660400-1775664000@recoverypointwv.org
SUMMARY:Womens Supporg Group
DESCRIPTION:
URL:https://recoverypointwv.org/event/womens-supporg-group/
LOCATION:The Point Café\, 630 8th Avenue\, Huntington\, WV\, 25701\, United States
CATEGORIES:The Point Café
END:VEVENT
BEGIN:VEVENT
DTSTART;TZID=America/New_York:20260408T133000
DTEND;TZID=America/New_York:20260408T143000
DTSTAMP:20260425T140544
CREATED:20260403T145458Z
LAST-MODIFIED:20260403T145458Z
UID:89539-1775655000-1775658600@recoverypointwv.org
SUMMARY:Recovery Circle
DESCRIPTION:
URL:https://recoverypointwv.org/event/recovery-circle-357/
LOCATION:The Point Café\, 630 8th Avenue\, Huntington\, WV\, 25701\, United States
CATEGORIES:The Point Café
END:VEVENT
BEGIN:VEVENT
DTSTART;TZID=America/New_York:20260408T120000
DTEND;TZID=America/New_York:20260408T133000
DTSTAMP:20260425T140544
CREATED:20260403T145456Z
LAST-MODIFIED:20260403T145456Z
UID:89538-1775649600-1775655000@recoverypointwv.org
SUMMARY:Heart Of Appalachia
DESCRIPTION:
URL:https://recoverypointwv.org/event/heart-of-appalachia-7/
LOCATION:The Point Café\, 630 8th Avenue\, Huntington\, WV\, 25701\, United States
CATEGORIES:The Point Café
END:VEVENT
BEGIN:VEVENT
DTSTART;TZID=America/New_York:20260407T143000
DTEND;TZID=America/New_York:20260407T153000
DTSTAMP:20260425T140544
CREATED:20260403T145453Z
LAST-MODIFIED:20260403T145453Z
UID:89537-1775572200-1775575800@recoverypointwv.org
SUMMARY:Relapse Prevention
DESCRIPTION:
URL:https://recoverypointwv.org/event/relapse-prevention-43/
LOCATION:The Point Café\, 630 8th Avenue\, Huntington\, WV\, 25701\, United States
CATEGORIES:The Point Café
END:VEVENT
BEGIN:VEVENT
DTSTART;TZID=America/New_York:20260407T130000
DTEND;TZID=America/New_York:20260407T140000
DTSTAMP:20260425T140544
CREATED:20260403T145451Z
LAST-MODIFIED:20260403T145451Z
UID:89536-1775566800-1775570400@recoverypointwv.org
SUMMARY:Recovery Circle
DESCRIPTION:
URL:https://recoverypointwv.org/event/recovery-circle-356/
LOCATION:The Point Café\, 630 8th Avenue\, Huntington\, WV\, 25701\, United States
CATEGORIES:The Point Café
END:VEVENT
BEGIN:VEVENT
DTSTART;TZID=America/New_York:20260407T100000
DTEND;TZID=America/New_York:20260407T120000
DTSTAMP:20260425T140544
CREATED:20260403T145449Z
LAST-MODIFIED:20260403T145449Z
UID:89535-1775556000-1775563200@recoverypointwv.org
SUMMARY:New Member Intake
DESCRIPTION:
URL:https://recoverypointwv.org/event/new-member-intake-114/
LOCATION:The Point Café\, 630 8th Avenue\, Huntington\, WV\, 25701\, United States
CATEGORIES:The Point Café
END:VEVENT
BEGIN:VEVENT
DTSTART;TZID=America/New_York:20260406T110000
DTEND;TZID=America/New_York:20260406T120000
DTSTAMP:20260425T140544
CREATED:20260403T145438Z
LAST-MODIFIED:20260403T145438Z
UID:89534-1775473200-1775476800@recoverypointwv.org
SUMMARY:Recovery Circle
DESCRIPTION:
URL:https://recoverypointwv.org/event/recovery-circle-355/
LOCATION:The Point Café\, 630 8th Avenue\, Huntington\, WV\, 25701\, United States
CATEGORIES:The Point Café
END:VEVENT
BEGIN:VEVENT
DTSTART;TZID=America/New_York:20260406T100000
DTEND;TZID=America/New_York:20260406T120000
DTSTAMP:20260425T140544
CREATED:20260403T145436Z
LAST-MODIFIED:20260403T145436Z
UID:89533-1775469600-1775476800@recoverypointwv.org
SUMMARY:New Member Intake
DESCRIPTION:
URL:https://recoverypointwv.org/event/new-member-intake-113/
LOCATION:The Point Café\, 630 8th Avenue\, Huntington\, WV\, 25701\, United States
CATEGORIES:The Point Café
END:VEVENT
BEGIN:VEVENT
DTSTART;TZID=America/New_York:20260405T133000
DTEND;TZID=America/New_York:20260405T143000
DTSTAMP:20260425T140544
CREATED:20260403T145434Z
LAST-MODIFIED:20260403T145434Z
UID:89532-1775395800-1775399400@recoverypointwv.org
SUMMARY:N/A Meeting
DESCRIPTION:
URL:https://recoverypointwv.org/event/n-a-meeting-3/
LOCATION:The Point Café\, 630 8th Avenue\, Huntington\, WV\, 25701\, United States
CATEGORIES:The Point Café
END:VEVENT
END:VCALENDAR